BEGIN:VCALENDAR
VERSION:2.0
PRODID:-//Plone.org//NONSGML plone.app.event//EN
X-WR-TIMEZONE:Europe/Berlin
BEGIN:VEVENT
SUMMARY:Predavanje in delavnica: Kranj ima onesnažen zrak – kako ga izb
 oljšati?
DTSTART;TZID=Europe/Berlin:20251001T080000
DTEND;TZID=Europe/Berlin:20251001T184500
DTSTAMP:20260421T160406Z
UID:78bbb49f10654a3b8aa803aa7a710423@127.0.0.1:8080
ATTENDEE;CN="Vabljeni vsi prebivalci občine Kranj";ROLE=REQ-PARTICIPANT:V
 abljeni vsi prebivalci občine Kranj
CONTACT:dijana.catakovic@cipra.org
CREATED:20250714T065736Z
DESCRIPTION:Namen in cilj dogodka: Z udeleženci preveriti interes za spre
 membo načina ogrevanja\, opredeliti ovire in poiskati priložnosti za spr
 emembe navad – kako kurimo\, kdaj zakurimo\, kaj kurimo ter kako se na s
 plošno ogrevamo.
LAST-MODIFIED:20250714T072726Z
LOCATION:Mestna knjižnica Kranj (Gregorčičeva ulica 1)
URL:https://www.cipra.org/sl/slovenija/predavanje-in-delavnica-kranj-ima-o
 nesnazen-zrak-kako-ga-izboljsati
END:VEVENT
BEGIN:VTIMEZONE
TZID:Europe/Berlin
X-LIC-LOCATION:Europe/Berlin
BEGIN:DAYLIGHT
DTSTART:20250330T030000
TZNAME:CEST
TZOFFSETFROM:+0100
TZOFFSETTO:+0200
END:DAYLIGHT
END:VTIMEZONE
END:VCALENDAR
