BEGIN:VCALENDAR
VERSION:2.0
PRODID:-//Plone.org//NONSGML plone.app.event//EN
X-WR-TIMEZONE:Europe/Berlin
BEGIN:VEVENT
SUMMARY:Mednarodni mladinski tabor - vzpon do ostankov Triglavskega ledeni
 ka
DTSTART;TZID=Europe/Berlin:20260901T090000
DTEND;TZID=Europe/Berlin:20260904T200000
DTSTAMP:20260420T184711Z
UID:1c6fe5caf9794564b0ce6fa8a3228e82@127.0.0.1:8080
ATTENDEE;CN="mladi med 18. in 29,9. letom s prebivališčem v Sloveniji, I
 taliji, Avstriji ali Lihtenštajnu.";ROLE=REQ-PARTICIPANT:mladi med 18. in
  29,9. letom s prebivališčem v Sloveniji, Italiji, Avstriji ali Lihtenš
 tajnu.
CONTACT:dijana.catakovic@cipra.org\, https://www.cipra.org/sl/novice/4-dne
 vna-ekskurzija-vzpon-do-ostankov-triglavskega-ledenika
CREATED:20260420T122411Z
DESCRIPTION:Krčenje Triglavskega ledenika je eden izmed neposrednih dokaz
 ov podnebnih sprememb. Zaradi stalnega zmanjševanja njegove površine smo
  verjetno zadnja generacija\, ki ostanke Triglavskega ledenika še lahko o
 pazuje v živo. Mladi med 18. in 29\,9. letom iz Avstrije\, Italije\, Liht
 enštajna in Slovenije imate priložnost sodelovati na edinstvenem večdne
 vnem dogodku\, posvečenem raziskovanju prav tega ledenika. Dogodek bo pot
 ekal v angleškem jeziku
LAST-MODIFIED:20260420T125329Z
LOCATION:Triglavski ledenik
URL:https://www.cipra.org/sl/prireditve/mednarodni-mladinski-tabor-vzpon-d
 o-ostankov-triglavskega-ledenika
END:VEVENT
BEGIN:VTIMEZONE
TZID:Europe/Berlin
X-LIC-LOCATION:Europe/Berlin
BEGIN:DAYLIGHT
DTSTART:20260329T030000
TZNAME:CEST
TZOFFSETFROM:+0100
TZOFFSETTO:+0200
END:DAYLIGHT
END:VTIMEZONE
END:VCALENDAR
