BEGIN:VCALENDAR
VERSION:2.0
PRODID:-//Plone.org//NONSGML plone.app.event//EN
X-WR-TIMEZONE:Europe/Berlin
BEGIN:VEVENT
SUMMARY:Festival Leggere le montagne
DTSTART;VALUE=DATE:20251211
DTEND;VALUE=DATE:20251212
DTSTAMP:20260421T174516Z
UID:a41a73cd6c2e4e3a92199e31ee24b679@127.0.0.1:8080
CONTACT:https://www.alpconv.org/it/home/progetti/festival-leggere-le-monta
 gne/
CREATED:20251028T140404Z
DESCRIPTION:Celebrazione del patrimonio culturale alpino nell'ambito della
  Giornata internazionale della montagna - 11 dicembre
LAST-MODIFIED:20251029T081110Z
URL:https://www.cipra.org/it/manifestazioni/festival-leggere-le-montagne
END:VEVENT
END:VCALENDAR
