BEGIN:VCALENDAR
VERSION:2.0
PRODID:-//Plone.org//NONSGML plone.app.event//EN
X-WR-TIMEZONE:Europe/Berlin
BEGIN:VEVENT
SUMMARY:Escursione lungo il fiume alpino Glion
DTSTART;TZID=Europe/Berlin:20260829T120000
DTSTAMP:20260419T145055Z
UID:3093b793ffbb4088b397446c1a6b306e@127.0.0.1:8080
CONTACT:info@umwelt-graubuenden.ch\, https://umwelt-graubuenden.ch
CREATED:20260413T065241Z
DESCRIPTION:Escursione lungo il fiume di montagna incontaminato Glion nei 
 Grigioni\, poiché è minacciato da un progetto di centrale elettrica.
LAST-MODIFIED:20260413T065415Z
LOCATION:Val Lumnezia
URL:https://www.cipra.org/it/manifestazioni/escursione-lungo-il-fiume-alpi
 no-glion
END:VEVENT
BEGIN:VTIMEZONE
TZID:Europe/Berlin
X-LIC-LOCATION:Europe/Berlin
BEGIN:DAYLIGHT
DTSTART:20260329T030000
TZNAME:CEST
TZOFFSETFROM:+0100
TZOFFSETTO:+0200
END:DAYLIGHT
END:VTIMEZONE
END:VCALENDAR
