BEGIN:VCALENDAR
VERSION:2.0
PRODID:-//Plone.org//NONSGML plone.app.event//EN
X-WR-TIMEZONE:Europe/Berlin
BEGIN:VEVENT
SUMMARY:10° Mercato nazionale dei parchi svizzeri
DTSTART;TZID=Europe/Berlin:20260621T100000
DTEND;TZID=Europe/Berlin:20260621T180000
DTSTAMP:20260421T185712Z
UID:a6db09d948714a3b8f04d741659ab42e@127.0.0.1:8080
CONTACT:https://www.parks.swiss/it/visitare-i-parchi/i-piaceri-della-tavol
 a/mercato-nazionale-dei-parchi-svizzeri
CREATED:20260421T112151Z
DESCRIPTION:Un festival di gusti e sapori vi aspetta il 21 maggio sulla Pi
 azza federale: venite a degustare le specialità regionali dei parchi sviz
 zeri e a parlare con le produttrici e i produttori!
LAST-MODIFIED:20260421T112253Z
LOCATION:Piazza federale a Berna
URL:https://www.cipra.org/it/manifestazioni/10deg-mercato-nazionale-dei-pa
 rchi-svizzeri
END:VEVENT
BEGIN:VTIMEZONE
TZID:Europe/Berlin
X-LIC-LOCATION:Europe/Berlin
BEGIN:DAYLIGHT
DTSTART:20260329T030000
TZNAME:CEST
TZOFFSETFROM:+0100
TZOFFSETTO:+0200
END:DAYLIGHT
END:VTIMEZONE
END:VCALENDAR
