BEGIN:VCALENDAR
VERSION:2.0
PRODID:-//Plone.org//NONSGML plone.app.event//EN
X-WR-TIMEZONE:Europe/Berlin
BEGIN:VEVENT
SUMMARY:Dolomiti: in cammino nella geologia della meraviglia
DTSTART;TZID=Europe/Berlin:20250423T170000
DTEND;TZID=Europe/Berlin:20250517T170000
DTSTAMP:20260419T144856Z
UID:ae9ac19dd7e94248954cb2f24e0275b0@127.0.0.1:8080
CONTACT:https://www.dolomitiunesco.info/attivita/mostra-trento-dolomiti-in
 -cammino-nella-geologia-della-meraviglia
CREATED:20250425T080632Z
DESCRIPTION:Mostra
LAST-MODIFIED:20250425T080755Z
LOCATION:Palazzo Thun\, Trento
URL:https://www.cipra.org/it/cipra/dolomiti-in-cammino-nella-geologia-dell
 a-meraviglia
END:VEVENT
BEGIN:VTIMEZONE
TZID:Europe/Berlin
X-LIC-LOCATION:Europe/Berlin
BEGIN:DAYLIGHT
DTSTART:20250330T030000
TZNAME:CEST
TZOFFSETFROM:+0100
TZOFFSETTO:+0200
END:DAYLIGHT
END:VTIMEZONE
END:VCALENDAR
