BEGIN:VCALENDAR
VERSION:2.0
PRODID:-//Plone.org//NONSGML plone.app.event//EN
X-WR-TIMEZONE:Europe/Berlin
BEGIN:VEVENT
SUMMARY:Workshop "Decarbonising access to higher altitudes"
DTSTART;VALUE=DATE:20260423
DTEND;VALUE=DATE:20260425
DTSTAMP:20260419T195303Z
UID:3787b56850c54769856afa8bcccd4d42@127.0.0.1:8080
CONTACT:https://www.alpconv.org/fr/page-daccueil/actualites-publications/e
 venements/
CREATED:20251128T103223Z
DESCRIPTION:Organisé par la Convention alpine. Informations à venir.
LAST-MODIFIED:20251128T103258Z
LOCATION:Grenoble
URL:https://www.cipra.org/fr/manifestations/workshop-decarbonising-access-
 to-higher-altitudes
END:VEVENT
END:VCALENDAR
