BEGIN:VCALENDAR
VERSION:2.0
PRODID:-//Plone.org//NONSGML plone.app.event//EN
X-WR-TIMEZONE:Europe/Berlin
BEGIN:VEVENT
SUMMARY:Randonnées scientifiques 2026
DTSTART;VALUE=DATE:20260502
DTEND;VALUE=DATE:20260921
DTSTAMP:20260421T155028Z
UID:344c400ba33b4498a38acb2b74d92fd6@127.0.0.1:8080
CONTACT:https://montagnes-sciences.fr/randonnees-scientifiques/
CREATED:20260317T093602Z
DESCRIPTION:Par l'Association montagnes et sciences
LAST-MODIFIED:20260317T093607Z
LOCATION:Alpes françaises
URL:https://www.cipra.org/fr/manifestations/randonnees-scientifiques-2026
END:VEVENT
END:VCALENDAR
