BEGIN:VCALENDAR
VERSION:2.0
PRODID:-//Plone.org//NONSGML plone.app.event//EN
X-WR-TIMEZONE:Europe/Berlin
BEGIN:VEVENT
SUMMARY:Randonnée fluviale alpine sur la Glenner
DTSTART;TZID=Europe/Berlin:20260829T120000
DTSTAMP:20260420T012602Z
UID:cc3bd85094634fdf882536b81f9dfb11@127.0.0.1:8080
CONTACT:info@umwelt-graubuenden.ch\, https://umwelt-graubuenden.ch
CREATED:20260413T065622Z
DESCRIPTION:Randonnée le long de la Glenner/Glion\, une rivière de monta
 gne préservée dans les Grisons\, menacée par un projet de centrale éle
 ctrique.
LAST-MODIFIED:20260413T065627Z
LOCATION:Val Lumnezia
URL:https://www.cipra.org/fr/manifestations/randonnee-fluviale-alpine-sur-
 la-glenner
END:VEVENT
BEGIN:VTIMEZONE
TZID:Europe/Berlin
X-LIC-LOCATION:Europe/Berlin
BEGIN:DAYLIGHT
DTSTART:20260329T030000
TZNAME:CEST
TZOFFSETFROM:+0100
TZOFFSETTO:+0200
END:DAYLIGHT
END:VTIMEZONE
END:VCALENDAR
