BEGIN:VCALENDAR
VERSION:2.0
PRODID:-//Plone.org//NONSGML plone.app.event//EN
X-WR-TIMEZONE:Europe/Berlin
BEGIN:VEVENT
SUMMARY:Forum "Du train pour nos montagnes"
DTSTART;VALUE=DATE:20251003
DTEND;VALUE=DATE:20251005
DTSTAMP:20260419T233514Z
UID:411463fa5af14e1a857f06910ccf714c@127.0.0.1:8080
CONTACT:https://aurail.eu/wp-content/uploads/2025/07/programme-et-modele-0
 8.pdf
CREATED:20250828T134952Z
DESCRIPTION:Deux journées intenses de conférences\, tables rondes et év
 énements festifs avec des invités de marque pour que le train soit au c
 œur de nos mobilités en montagne.\nAvec une intervention d’Éléonore 
 Matuszak\, vice-présidente de CIPRA International.
LAST-MODIFIED:20250828T135239Z
LOCATION:Siège de Grenoble Alpes Métropole - 1 place André Malraux - 38
  000 Grenoble
URL:https://www.cipra.org/fr/manifestations/forum-du-train-pour-nos-montag
 nes
END:VEVENT
END:VCALENDAR
