BEGIN:VCALENDAR
VERSION:2.0
PRODID:-//Plone.org//NONSGML plone.app.event//EN
X-WR-TIMEZONE:Europe/Berlin
BEGIN:VEVENT
SUMMARY:Conférence - La vie sur les Îles du Ciel : petite biologie des 
 écosystèmes de haute montagne
DTSTART;TZID=Europe/Berlin:20251212T182000
DTEND;TZID=Europe/Berlin:20251212T200000
DTSTAMP:20260421T175456Z
UID:b4f5e87201404faeae4db56bb0136144@127.0.0.1:8080
CONTACT:https://asso-cgo.fr/nos-prestations/conferences-zone-critique
CREATED:20251128T112539Z
DESCRIPTION:Pr. Sébastien Lavergne — CNRS et Université Grenoble Alpes
 .  La haute montagne n’est pas un désert biologique\, mais abrite au co
 ntraire des écosystèmes largement méconnus associant une grande diversi
 té de plantes et d’animaux invertébrés. Nous verrons comment les prog
 rès récents de la biologie nous ont permis de décrire de nouvelles esp
 èces pour la science\, de reconstruire leurs origines évolutives\, et de
  comprendre comment ces différentes espèces végétales et animales inte
 ragissent les unes avec les autres.
LAST-MODIFIED:20251128T115032Z
LOCATION:Auditorium du Muséum d’Histoire Naturelle de Grenoble (entrée
  rue des Dauphins)
URL:https://www.cipra.org/fr/manifestations/conference-la-vie-sur-les-iles
 -du-ciel-petite-biologie-des-ecosystemes-de-haute-montagne
END:VEVENT
BEGIN:VTIMEZONE
TZID:Europe/Berlin
X-LIC-LOCATION:Europe/Berlin
BEGIN:STANDARD
DTSTART:20251026T020000
TZNAME:CET
TZOFFSETFROM:+0200
TZOFFSETTO:+0100
END:STANDARD
END:VTIMEZONE
END:VCALENDAR
