BEGIN:VCALENDAR
VERSION:2.0
PRODID:-//Plone.org//NONSGML plone.app.event//EN
X-WR-TIMEZONE:Europe/Berlin
BEGIN:VEVENT
SUMMARY:10e Marché national des parcs suisses
DTSTART;TZID=Europe/Berlin:20260621T100000
DTEND;TZID=Europe/Berlin:20260621T180000
DTSTAMP:20260421T173520Z
UID:a22a7487b0ee44abaf7e8020a199c49c@127.0.0.1:8080
CONTACT:https://www.parks.swiss/fr/visiter-les-parcs/boire-manger/marche-n
 ational-des-parcs-suisses
CREATED:20260421T111558Z
DESCRIPTION:Un festival de goûts et de saveurs vous attend le 21 mai sur 
 la Place fédérale : venez déguster les meilleures spécialités région
 ales et rencontrer des productrices et producteurs passionnés au Marché 
 des parcs suisses !
LAST-MODIFIED:20260421T111822Z
LOCATION:Place fédérale à Berne
URL:https://www.cipra.org/fr/manifestations/10e-marche-national-des-parcs-
 suisses
END:VEVENT
BEGIN:VTIMEZONE
TZID:Europe/Berlin
X-LIC-LOCATION:Europe/Berlin
BEGIN:DAYLIGHT
DTSTART:20260329T030000
TZNAME:CEST
TZOFFSETFROM:+0100
TZOFFSETTO:+0200
END:DAYLIGHT
END:VTIMEZONE
END:VCALENDAR
