BEGIN:VCALENDAR
VERSION:2.0
PRODID:-//Plone.org//NONSGML plone.app.event//EN
X-WR-TIMEZONE:Europe/Berlin
BEGIN:VEVENT
SUMMARY:International Youth Camp - Hike to the Remains of the Triglav Glac
 ier
DTSTART;VALUE=DATE:20260831
DTEND;VALUE=DATE:20260906
DTSTAMP:20260420T203927Z
UID:30b379c1d54a4ece83c2c673fbd9a71a@127.0.0.1:8080
ATTENDEE;CN="Young people aged 18 to 29.9 from Austria, Italy, Liechtenste
 in, and Slovenia ";ROLE=REQ-PARTICIPANT:Young people aged 18 to 29.9 from 
 Austria, Italy, Liechtenstein, and Slovenia 
CREATED:20260420T123749Z
DESCRIPTION:The shrinking of the Triglav Glacier is one of the most direct
  pieces of evidence of climate change. Due to the continuous reduction of 
 its area\, we are likely the last generation that can still observe the re
 mains of the Triglav Glacier in person. Young people aged 18 to 29.9 from 
 Austria\, Italy\, Liechtenstein\, and Slovenia have the opportunity to tak
 e part in a unique multi-day event dedicated to exploring this very glacie
 r. The event will be held in English.
LAST-MODIFIED:20260420T135626Z
LOCATION:Triglav Glacier\, Slovenia
URL:https://www.cipra.org/en/events/international-youth-camp-hike-to-the-r
 emains-of-the-triglav-glacier
END:VEVENT
END:VCALENDAR
