BEGIN:VCALENDAR
VERSION:2.0
PRODID:-//Plone.org//NONSGML plone.app.event//EN
X-WR-TIMEZONE:Europe/Berlin
BEGIN:VEVENT
SUMMARY:(Ideen-)Tauschbazar + Repaircafe
DTSTART;TZID=Europe/Berlin:20260912T130000
DTEND;TZID=Europe/Berlin:20260912T170000
DTSTAMP:20260422T115144Z
UID:a0cd488f1b634b19a36ead5d61baf06a@127.0.0.1:8080
CONTACT:Elisabeth Meze\, lisimeze@yahoo.de
CREATED:20260422T062937Z
DESCRIPTION:Nachhaltigkeit in Miniatur: wir tauschen Dinge (Kleidung\, Bü
 cher\, Pflanzen\, Spiele\,...)\, Ideen (diverse Vorträge zu Energie\, soz
 ialer Nachhaltigkeit\, Mobilität\, Klimaschutz)\, Workshops für alt und 
 jung (upcycling\, Kräuter\, Kraftwerke...) und ein vielfältiges Repair-C
 afe
LAST-MODIFIED:20260422T072811Z
LOCATION:Kulturstadl Untermieming / Mieming (Tirol)
URL:https://www.cipra.org/de/veranstaltungen/ideen-tauschbazar-repaircafe
END:VEVENT
BEGIN:VTIMEZONE
TZID:Europe/Berlin
X-LIC-LOCATION:Europe/Berlin
BEGIN:DAYLIGHT
DTSTART:20260329T030000
TZNAME:CEST
TZOFFSETFROM:+0100
TZOFFSETTO:+0200
END:DAYLIGHT
END:VTIMEZONE
END:VCALENDAR
