BEGIN:VCALENDAR
VERSION:2.0
PRODID:-//Plone.org//NONSGML plone.app.event//EN
X-WR-TIMEZONE:Europe/Berlin
BEGIN:VEVENT
SUMMARY:Geschützt durch den Pfynwald wandern
DTSTART;TZID=Europe/Berlin:20260510T102000
DTEND;TZID=Europe/Berlin:20260510T153000
DTSTAMP:20260422T160144Z
UID:0db9838ff72740e9a29d70cae08a6ca9@127.0.0.1:8080
CONTACT:https://aquaviva.ch/de/angebot/veranstaltungen/wanderung-durch-den
 -pfynwald
CREATED:20260422T095304Z
DESCRIPTION:Der Pfynwald ist eines der artenreichsten Schutzgebiete der Sc
 hweiz. Er bietet unter anderem Lebensraum für Flussuferläufer\, Grosse K
 önigslibelle und Dohlenkrebs. Auf der Wanderung entdecken wir Steppen\, A
 uenwälder\, Teiche und Föhrenwälder entlang des Wilden Rottens und des 
 Illgrabens. Dabei erfahren wir\, warum die Kompensationsmassnahmen im Zusa
 mmenhang mit dem Bau der A9 massgeblich für den heutigen guten Zustand de
 s Auengebietes verantwortlich sind.
LAST-MODIFIED:20260422T100604Z
LOCATION:Parc Naturel Pfyn-Finges\, Kirchstrasse\, Salgesch
URL:https://www.cipra.org/de/veranstaltungen/geschuetzt-durch-den-pfynwald
 -wandern
END:VEVENT
BEGIN:VTIMEZONE
TZID:Europe/Berlin
X-LIC-LOCATION:Europe/Berlin
BEGIN:DAYLIGHT
DTSTART:20260329T030000
TZNAME:CEST
TZOFFSETFROM:+0100
TZOFFSETTO:+0200
END:DAYLIGHT
END:VTIMEZONE
END:VCALENDAR
