BEGIN:VCALENDAR
VERSION:2.0
PRODID:-//Plone.org//NONSGML plone.app.event//EN
X-WR-TIMEZONE:Europe/Berlin
BEGIN:VEVENT
SUMMARY:Exkursion Bettmeralp
DTSTART;TZID=Europe/Berlin:20260829T084500
DTEND;TZID=Europe/Berlin:20260829T160600
DTSTAMP:20260423T155147Z
UID:00c62d706ce74540bf98fab4b052a5c4@127.0.0.1:8080
CONTACT:Aline Dreifuss\, Aquaviva\, aline.dreifuss@aquaviva.ch\, https://a
 quaviva.ch/de/angebot/veranstaltungen/verborgene-bettmeralp
CREATED:20260423T074306Z
DESCRIPTION:Die verborgene\, ökologische Bedeutung von Quellen entdecken
LAST-MODIFIED:20260423T085455Z
LOCATION:Bettmeralp\, Wallis
URL:https://www.cipra.org/de/veranstaltungen/exkursion-bettmeralp
END:VEVENT
BEGIN:VTIMEZONE
TZID:Europe/Berlin
X-LIC-LOCATION:Europe/Berlin
BEGIN:DAYLIGHT
DTSTART:20260329T030000
TZNAME:CEST
TZOFFSETFROM:+0100
TZOFFSETTO:+0200
END:DAYLIGHT
END:VTIMEZONE
END:VCALENDAR
