BEGIN:VCALENDAR
VERSION:2.0
PRODID:-//Plone.org//NONSGML plone.app.event//EN
X-WR-TIMEZONE:Europe/Berlin
BEGIN:VEVENT
SUMMARY:10. Nationaler Pärke-Markt
DTSTART;TZID=Europe/Berlin:20260621T100000
DTEND;TZID=Europe/Berlin:20260621T180000
DTSTAMP:20260421T185542Z
UID:ae94dc4716b5444aac497d8b45a110d7@127.0.0.1:8080
CONTACT:https://www.parks.swiss/de/paerke-besuchen/essen-trinken/nationale
 r-paerke-markt
CREATED:20260421T102124Z
DESCRIPTION:Am 21. Mai verwandelt sich der Bundesplatz in ein Festival der
  Kulinarik. Kosten Sie die regionalen Produkte und kommen Sie am Pärke-Ma
 rkt mit leidenschaftlichen Produzentinnen und Produzenten ins Gespräch!
LAST-MODIFIED:20260421T112336Z
LOCATION:Bundesplatz Bern
URL:https://www.cipra.org/de/veranstaltungen/10-nationaler-paerke-markt
END:VEVENT
BEGIN:VTIMEZONE
TZID:Europe/Berlin
X-LIC-LOCATION:Europe/Berlin
BEGIN:DAYLIGHT
DTSTART:20260329T030000
TZNAME:CEST
TZOFFSETFROM:+0100
TZOFFSETTO:+0200
END:DAYLIGHT
END:VTIMEZONE
END:VCALENDAR
